BEGIN:VCALENDAR
VERSION:2.0
PRODID:-//Episcopal Health Foundation - ECPv6.15.20//NONSGML v1.0//EN
CALSCALE:GREGORIAN
METHOD:PUBLISH
X-WR-CALNAME:Episcopal Health Foundation
X-ORIGINAL-URL:https://www.episcopalhealth.org
X-WR-CALDESC:Events for Episcopal Health Foundation
REFRESH-INTERVAL;VALUE=DURATION:PT1H
X-Robots-Tag:noindex
X-PUBLISHED-TTL:PT1H
BEGIN:VTIMEZONE
TZID:America/Chicago
BEGIN:DAYLIGHT
TZOFFSETFROM:-0600
TZOFFSETTO:-0500
TZNAME:CDT
DTSTART:20240310T080000
END:DAYLIGHT
BEGIN:STANDARD
TZOFFSETFROM:-0500
TZOFFSETTO:-0600
TZNAME:CST
DTSTART:20241103T070000
END:STANDARD
BEGIN:DAYLIGHT
TZOFFSETFROM:-0600
TZOFFSETTO:-0500
TZNAME:CDT
DTSTART:20250309T080000
END:DAYLIGHT
BEGIN:STANDARD
TZOFFSETFROM:-0500
TZOFFSETTO:-0600
TZNAME:CST
DTSTART:20251102T070000
END:STANDARD
BEGIN:DAYLIGHT
TZOFFSETFROM:-0600
TZOFFSETTO:-0500
TZNAME:CDT
DTSTART:20260308T080000
END:DAYLIGHT
BEGIN:STANDARD
TZOFFSETFROM:-0500
TZOFFSETTO:-0600
TZNAME:CST
DTSTART:20261101T070000
END:STANDARD
END:VTIMEZONE
BEGIN:VEVENT
DTSTART;TZID=America/Chicago:20250403T180000
DTEND;TZID=America/Chicago:20250403T210000
DTSTAMP:20260422T101942
CREATED:20250306T173950Z
LAST-MODIFIED:20250306T174142Z
UID:10000141-1743703200-1743714000@www.episcopalhealth.org
SUMMARY:Traces of the Trade 2025 | St. Aidan's\, Cypress
DESCRIPTION:What: Traces of the Trade Documentary and Dialogue \nWhen:  Thursday\, April 3\, 2025 @ 6 PM – 9 PM \nWhere: St. Aidan’s Episcopal Church\, 13131 Fry Road\, Cypress\, TX 77433 \nREGISTER HERE! \nThe Episcopal Health Foundation in partnership with St. Aidan’s Episcopal Church\, Cypress invites you to view the film Traces of the Trade: A Story from the Deep North and engage in dialogue facilitated by DeWolf descendant Dain Perry and wife Constance Perry. \nTraces of the Trade tells the story of the largest slave-trading family in U.S. history\, the DeWolfs of Rhode Island\, the forefathers of Producer/Director Katrina Browne. The film follows Browne and nine fellow family members on a remarkable journey\, which brings them face-to-face with the history and legacy of their New England family’s involvement in the slave trade in the 18th and early 19th centuries against the backdrop of Northern business\, communities\, and residents who condoned and benefited from slave trading. The film will be followed by facilitated discussion. \nRacial discrimination and systemic racism have profound effects on the health and well-being not only of minority populations\, but of our broader communities. EHF is uniquely positioned alongside the Diocese of Texas to partner with congregations to build bridges of health and wholeness into communities. Recognizing our Gospel call to seek and serve Christ in all persons\, together we will listen\, advise\, and work to build healthy communities. \nREGISTER HERE!  \nWatch the trailer here. \nIf you have questions about the event\, please contact Eric Moen\, Sr. Congregational Engagement Officer\, at emoen@episcopalhealth.org \n  \nAll Racial Reconciliation work at EHF is coordinated in partnership with the Episcopal Diocese of Texas and TEC’s Becoming Beloved Community. \n“Until we talk about the issue of race and racism and until we learn how it came about in this country and how it is affecting people today in such terribly negative ways\, we’ll never succeed in overcoming racism…knowing our history is critical in how we move forward\,” Dain Perry\, facilitator. \n“The more diverse the audience is the more we are truly listening to each other\, not just with our ears\, but with our hearts and our humanity in a non-threatening way. We can maybe begin to understand the challenges we all face and agree that we have work to do. But it’s through these conversations that we develop knowledge\, that we begin to build trust and begin to build community so that together we can begin to break down the walls of racism\,” Constance Perry\, facilitator.
URL:https://www.episcopalhealth.org/event/traces-of-the-trade-2025-st-aidans-cypress/
LOCATION:St. Aidan’s Episcopal Church\, 13131 Fry Road\, Cypress\, TX\, 77433\, United States
CATEGORIES:Events and Webinars
ATTACH;FMTTYPE=image/jpeg:https://www.episcopalhealth.org/wp-content/uploads/2021/02/Traces-of-the-Trade.jpg
END:VEVENT
END:VCALENDAR