BEGIN:VCALENDAR
VERSION:2.0
PRODID:-//Episcopal Health Foundation - ECPv6.15.20//NONSGML v1.0//EN
CALSCALE:GREGORIAN
METHOD:PUBLISH
X-ORIGINAL-URL:https://www.episcopalhealth.org
X-WR-CALDESC:Events for Episcopal Health Foundation
REFRESH-INTERVAL;VALUE=DURATION:PT1H
X-Robots-Tag:noindex
X-PUBLISHED-TTL:PT1H
BEGIN:VTIMEZONE
TZID:America/Chicago
BEGIN:DAYLIGHT
TZOFFSETFROM:-0600
TZOFFSETTO:-0500
TZNAME:CDT
DTSTART:20230312T080000
END:DAYLIGHT
BEGIN:STANDARD
TZOFFSETFROM:-0500
TZOFFSETTO:-0600
TZNAME:CST
DTSTART:20231105T070000
END:STANDARD
BEGIN:DAYLIGHT
TZOFFSETFROM:-0600
TZOFFSETTO:-0500
TZNAME:CDT
DTSTART:20240310T080000
END:DAYLIGHT
BEGIN:STANDARD
TZOFFSETFROM:-0500
TZOFFSETTO:-0600
TZNAME:CST
DTSTART:20241103T070000
END:STANDARD
BEGIN:DAYLIGHT
TZOFFSETFROM:-0600
TZOFFSETTO:-0500
TZNAME:CDT
DTSTART:20250309T080000
END:DAYLIGHT
BEGIN:STANDARD
TZOFFSETFROM:-0500
TZOFFSETTO:-0600
TZNAME:CST
DTSTART:20251102T070000
END:STANDARD
END:VTIMEZONE
BEGIN:VEVENT
DTSTART;TZID=America/Chicago:20240302T090000
DTEND;TZID=America/Chicago:20240302T150000
DTSTAMP:20260421T022738
CREATED:20240209T203126Z
LAST-MODIFIED:20240209T203126Z
UID:10000123-1709370000-1709391600@www.episcopalhealth.org
SUMMARY:Bridges Out of Poverty | Holy Spirit\, Waco
DESCRIPTION:What: Full Day Bridges Out of Poverty Workshop\nHosted by the Holy Spirit Episcopal Church in Waco and the Episcopal Health Foundation \nWhen: Saturday\, March 2\, 2024 @ 9:00 AM – 3:00 PM \nWhere: Holy Spirit Episcopal Church\, 1624 Wooded Acres Dr\, Waco\, TX \nREGISTER HERE! \nHoly Spirit Episcopal Church and the Episcopal Health Foundation invite you to take part in this full-day workshop on Bridges Out of Poverty\, which aims to introduce participants to a comprehensive approach for understanding the dynamics that cause and maintain poverty. Bridges Out of Poverty uses the lens of economic class and provides concrete tools and strategies for a community to prevent\, reduce\, and alleviate poverty. It is designed to provide a broad overview of concepts. \nAll workshops are free to the community and include lunch and workshop materials. \nREGISTER HERE! \nIf you have any questions or concerns\, please contact us.
URL:https://www.episcopalhealth.org/event/bridges-out-of-poverty-holy-spirit-waco/
LOCATION:Holy Spirit Episcopal Church\, Waco\, 1624 Wooded Acres Dr\, Waco\, TX\, United States
CATEGORIES:Events and Webinars
ATTACH;FMTTYPE=image/jpeg:https://www.episcopalhealth.org/wp-content/uploads/2024/02/BCS-Bridges-2.jpg
END:VEVENT
END:VCALENDAR