BEGIN:VCALENDAR
VERSION:2.0
PRODID:-//Episcopal Health Foundation - ECPv6.15.20//NONSGML v1.0//EN
CALSCALE:GREGORIAN
METHOD:PUBLISH
X-WR-CALNAME:Episcopal Health Foundation
X-ORIGINAL-URL:https://www.episcopalhealth.org
X-WR-CALDESC:Events for Episcopal Health Foundation
REFRESH-INTERVAL;VALUE=DURATION:PT1H
X-Robots-Tag:noindex
X-PUBLISHED-TTL:PT1H
BEGIN:VTIMEZONE
TZID:America/Chicago
BEGIN:DAYLIGHT
TZOFFSETFROM:-0600
TZOFFSETTO:-0500
TZNAME:CDT
DTSTART:20190310T080000
END:DAYLIGHT
BEGIN:STANDARD
TZOFFSETFROM:-0500
TZOFFSETTO:-0600
TZNAME:CST
DTSTART:20191103T070000
END:STANDARD
BEGIN:DAYLIGHT
TZOFFSETFROM:-0600
TZOFFSETTO:-0500
TZNAME:CDT
DTSTART:20200308T080000
END:DAYLIGHT
BEGIN:STANDARD
TZOFFSETFROM:-0500
TZOFFSETTO:-0600
TZNAME:CST
DTSTART:20201101T070000
END:STANDARD
BEGIN:DAYLIGHT
TZOFFSETFROM:-0600
TZOFFSETTO:-0500
TZNAME:CDT
DTSTART:20210314T080000
END:DAYLIGHT
BEGIN:STANDARD
TZOFFSETFROM:-0500
TZOFFSETTO:-0600
TZNAME:CST
DTSTART:20211107T070000
END:STANDARD
END:VTIMEZONE
BEGIN:VTIMEZONE
TZID:UTC
BEGIN:STANDARD
TZOFFSETFROM:+0000
TZOFFSETTO:+0000
TZNAME:UTC
DTSTART:20190101T000000
END:STANDARD
END:VTIMEZONE
BEGIN:VEVENT
DTSTART;TZID=America/Chicago:20200222T090000
DTEND;TZID=America/Chicago:20200222T170000
DTSTAMP:20260420T052636
CREATED:20200117T175204Z
LAST-MODIFIED:20200117T175429Z
UID:10000075-1582362000-1582390800@www.episcopalhealth.org
SUMMARY:One Human Race Training - Feb 22
DESCRIPTION:Date: February 22\, 2020\nLocation: Various Locations: Round Rock\, Marble Falls\, Austin\nSponsor: The Union of Black Episcopalians\, The Myra McDaniel Chapter (Austin) \nThe One Human Race Initiative is a ministry of the Union of Black Episcopalians (UBE)\, Myra McDaniel chapter based in Austin. Utilizing the PBS series Race: The Power of an Illusion\, the UBE chapter offers a three-part series of workshops designed to provide a safe\, open\, and productive framework for learning and sharing about racism as expressed through institutions and systems and how it impacts individuals. \nThe series lasts three weeks to provide time for participants to digest the information and form community among the group\, emphasizes radical hospitality (accepting everyone\, no matter their background or opinion)\, and uses Eric Law’s mutual invitation method for sharing. The series also includes other concepts from Eric Law’s book The Wolf Shall Dwell with the Lamb.
URL:https://www.episcopalhealth.org/event/one-human-race-training-feb-22/
LOCATION:First United Methodist Church\, 1201 Lavaca St\, Austin\, TX\, United States
CATEGORIES:Events and Webinars
END:VEVENT
BEGIN:VEVENT
DTSTART;TZID=America/Chicago:20200215T090000
DTEND;TZID=America/Chicago:20200215T170000
DTSTAMP:20260420T052636
CREATED:20200117T174958Z
LAST-MODIFIED:20200117T175434Z
UID:10000074-1581757200-1581786000@www.episcopalhealth.org
SUMMARY:One Human Race Training - Feb 15
DESCRIPTION:Date: February 15\, 2020\nLocation: Various Locations: Round Rock\, Marble Falls\, Austin\nSponsor: The Union of Black Episcopalians\, The Myra McDaniel Chapter (Austin) \nThe One Human Race Initiative is a ministry of the Union of Black Episcopalians (UBE)\, Myra McDaniel chapter based in Austin. Utilizing the PBS series Race: The Power of an Illusion\, the UBE chapter offers a three-part series of workshops designed to provide a safe\, open\, and productive framework for learning and sharing about racism as expressed through institutions and systems and how it impacts individuals. \nThe series lasts three weeks to provide time for participants to digest the information and form community among the group\, emphasizes radical hospitality (accepting everyone\, no matter their background or opinion)\, and uses Eric Law’s mutual invitation method for sharing. The series also includes other concepts from Eric Law’s book The Wolf Shall Dwell with the Lamb.
URL:https://www.episcopalhealth.org/event/one-human-race-training-feb-15/
LOCATION:Trinity Episcopal Church\, 909 Ave. D\, Marble Falls\, TX\, United States
CATEGORIES:Events and Webinars
END:VEVENT
BEGIN:VEVENT
DTSTART;TZID=America/Chicago:20200201T090000
DTEND;TZID=America/Chicago:20200201T170000
DTSTAMP:20260420T052636
CREATED:20200117T174828Z
LAST-MODIFIED:20200117T175438Z
UID:10000073-1580547600-1580576400@www.episcopalhealth.org
SUMMARY:One Human Race Training - Feb 1
DESCRIPTION:Date: February 2020\nLocation: Various Locations: Round Rock\, Marble Falls\, Austin\nSponsor: The Union of Black Episcopalians\, The Myra McDaniel Chapter (Austin) \nThe One Human Race Initiative is a ministry of the Union of Black Episcopalians (UBE)\, Myra McDaniel chapter based in Austin. Utilizing the PBS series Race: The Power of an Illusion\, the UBE chapter offers a three-part series of workshops designed to provide a safe\, open\, and productive framework for learning and sharing about racism as expressed through institutions and systems and how it impacts individuals. \nThe series lasts three weeks to provide time for participants to digest the information and form community among the group\, emphasizes radical hospitality (accepting everyone\, no matter their background or opinion)\, and uses Eric Law’s mutual invitation method for sharing. The series also includes other concepts from Eric Law’s book The Wolf Shall Dwell with the Lamb.
URL:https://www.episcopalhealth.org/event/one-human-race-training-feb-1/
LOCATION:Bluebonnet Elementary School\, 1010 Chisholm Valley Drive\, Round Rock\, TX\, United States
CATEGORIES:Events and Webinars
END:VEVENT
BEGIN:VEVENT
DTSTART;TZID=UTC:20200131T080000
DTEND;TZID=UTC:20200131T170000
DTSTAMP:20260420T052636
CREATED:20200117T222846Z
LAST-MODIFIED:20200117T222846Z
UID:10000077-1580457600-1580490000@www.episcopalhealth.org
SUMMARY:East Texas Human Needs Network
DESCRIPTION:Date: January 31\, 2020\nLocation: Tyler\, TX\nSponsor: The East Texas Human Needs Network (ETHNN)\nRegistration Fee: $200 \nThis conference is an opportunity in East Texas for all sectors in multiple counties to learn\, plan\, and build an initiative to address poverty together. \nNational and local experts will prepare you to work across economic classes to address the four causes of poverty\, support individuals as they build resources\, and achieve a sustainable community where everyone can live well. \nThis conference offers best practices in public\, private\, and social sectors with sessions for education\, workplace\, congregations\, healthcare\, policy-making\, community\, criminal justice and first responders. \nMost anti-poverty programs lack a system-wide scope of effort. But when ALL stakeholders people in poverty\, communities\, businesses\, organizations–come to the table with a coherent plan of action\, amazing things happen. Bridges to Sustainable Communities includes clear examples and proven best-practices of what s possible when we re all on the same page. It is a collection of articles published by Philip DeVol\, co-author of Bridges Out Of Poverty and a leading voice in helping people come together to end poverty.
URL:https://www.episcopalhealth.org/event/east-texas-human-needs-network/
LOCATION:Green Acres Crosswalk Conference Center\, 1607 Troup Hwy\, Tyler\, TX\, 75701\, United States
CATEGORIES:Events and Webinars
END:VEVENT
END:VCALENDAR