BEGIN:VCALENDAR
VERSION:2.0
PRODID:-//Episcopal Health Foundation - ECPv6.15.20//NONSGML v1.0//EN
CALSCALE:GREGORIAN
METHOD:PUBLISH
X-ORIGINAL-URL:https://www.episcopalhealth.org
X-WR-CALDESC:Events for Episcopal Health Foundation
REFRESH-INTERVAL;VALUE=DURATION:PT1H
X-Robots-Tag:noindex
X-PUBLISHED-TTL:PT1H
BEGIN:VTIMEZONE
TZID:America/Chicago
BEGIN:DAYLIGHT
TZOFFSETFROM:-0600
TZOFFSETTO:-0500
TZNAME:CDT
DTSTART:20250309T080000
END:DAYLIGHT
BEGIN:STANDARD
TZOFFSETFROM:-0500
TZOFFSETTO:-0600
TZNAME:CST
DTSTART:20251102T070000
END:STANDARD
BEGIN:DAYLIGHT
TZOFFSETFROM:-0600
TZOFFSETTO:-0500
TZNAME:CDT
DTSTART:20260308T080000
END:DAYLIGHT
BEGIN:STANDARD
TZOFFSETFROM:-0500
TZOFFSETTO:-0600
TZNAME:CST
DTSTART:20261101T070000
END:STANDARD
BEGIN:DAYLIGHT
TZOFFSETFROM:-0600
TZOFFSETTO:-0500
TZNAME:CDT
DTSTART:20270314T080000
END:DAYLIGHT
BEGIN:STANDARD
TZOFFSETFROM:-0500
TZOFFSETTO:-0600
TZNAME:CST
DTSTART:20271107T070000
END:STANDARD
END:VTIMEZONE
BEGIN:VEVENT
DTSTART;TZID=America/Chicago:20260210T190000
DTEND;TZID=America/Chicago:20260210T203000
DTSTAMP:20260420T092830
CREATED:20260128T170242Z
LAST-MODIFIED:20260128T170242Z
UID:10000148-1770750000-1770755400@www.episcopalhealth.org
SUMMARY:Call to Feed the Hungry
DESCRIPTION:Join Bishop Andrew Doyle\, congregational food ministry leaders\, partners\, and more at the Call to Feed the Hungry virtual kickoff event and training on Tuesday\, February 10 at 7pm! \nRegister Here! \n\nLearn why more and more people need food assistance from our pantries.\nLearn why Texas faces a critical funding gap in feeding 5.4 million Texans.\nLearn why churches alone cannot bridge the gap.\nLearn how YOU and YOUR organization can help decision makers understand the crucial need in our communities.\n\nRegister Here! \nThe Call to Feed the Hungry Committee consists of members of congregations with food ministries and representatives from the Health and Justice Advocacy Network (HJAN). Learn more at www.feedthepeopletoday.org
URL:https://www.episcopalhealth.org/event/call-to-feed-the-hungry/
CATEGORIES:Events and Webinars
END:VEVENT
BEGIN:VEVENT
DTSTART;TZID=America/Chicago:20260421T120000
DTEND;TZID=America/Chicago:20260421T130000
DTSTAMP:20260420T092830
CREATED:20260319T172719Z
LAST-MODIFIED:20260406T141755Z
UID:10000149-1776772800-1776776400@www.episcopalhealth.org
SUMMARY:Holy Currencies Ministry Incubation - Informational Webinars | Session at 12 PM
DESCRIPTION:Holy Currencies Ministry Incubation Informational Webinars\nHosted by the EHF Congregational Engagement Team and Kaleidoscope Institute \nDate: Tuesday\, April 21\, 2026\nTime: 12:00PM – 1:00 PM \nDoes your congregation have a desire to enhance an existing ministry in the community\, but does not know how to get started? \nThe Episcopal Health Foundation’s Ministry Incubation Program\nEHF is looking for Episcopal congregations within the Episcopal Diocese of Texas with either 1) existing ministries that they would like to expand or better connect to the community\, or 2) clear commitments to future initiatives for which the Holy Currencies model could contribute to the impact and success of the initiative. \nPlease register for one of the two informational webinars to learn more about the benefits of your congregation’s participation\, the Holy Currencies model used to develop community ministry ideas\, and the timeline for the 2026 Holy Currencies Ministry Incubation Cohort. \n12:00 – 1:00 PM Session | REGISTER HERE!! \nAlternatively\, you can join later for the 6:30 – 7:30 PM Session | REGISTER HERE!! \nPlease contact Eric Moen at emoen@episcopalhealth.org if you have questions or concerns. \nThe Episcopal Health Foundation Congregational Engagement Team works with the Episcopal congregations in the Episcopal Diocese of Texas to deepen their outreach ministries engaging in building healthy communities.
URL:https://www.episcopalhealth.org/event/holy-currencies-ministry-incubation-informational-webinars-sessions-2026/
CATEGORIES:Events and Webinars
ATTACH;FMTTYPE=image/png:https://www.episcopalhealth.org/wp-content/uploads/2023/10/CoB.png
END:VEVENT
BEGIN:VEVENT
DTSTART;TZID=America/Chicago:20260421T183000
DTEND;TZID=America/Chicago:20260421T193000
DTSTAMP:20260420T092830
CREATED:20260319T173017Z
LAST-MODIFIED:20260406T141730Z
UID:10000150-1776796200-1776799800@www.episcopalhealth.org
SUMMARY:Holy Currencies Ministry Incubation - Informational Webinars | Session at 6:30 PM
DESCRIPTION:Holy Currencies Ministry Incubation Informational Webinars\nHosted by the EHF Congregational Engagement Team and Kaleidoscope Institute \nDate: Tuesday\, April 21\, 2026\nTime: 6:30PM – 7:30PM CST \nDoes your congregation have a desire to enhance an existing ministry in the community\, but does not know how to get started? \nThe Episcopal Health Foundation’s Ministry Incubation Program\nEHF is looking for Episcopal congregations within the Episcopal Diocese of Texas with either 1) existing ministries that they would like to expand or better connect to the community\, or 2) clear commitments to future initiatives for which the Holy Currencies model could contribute to the impact and success of the initiative. \nPlease register for one of the two informational webinars to learn more about the benefits of your congregation’s participation\, the Holy Currencies model used to develop community ministry ideas\, and the timeline for the 2024 Holy Currencies Ministry Incubation Cohort. \n6:30 – 7:30 PM Session | REGISTER HERE!! \nAlternatively\, you can join the earlier for the 12:00 – 1:00 PM Session | REGISTER HERE!! \nPlease contact Eric Moen at emoen@episcopalhealth.org if you have questions or concerns. \nThe Episcopal Health Foundation Congregational Engagement Team works with the Episcopal congregations in the Episcopal Diocese of Texas to deepen their outreach ministries engaging in building healthy communities.
URL:https://www.episcopalhealth.org/event/holy-currencies-ministry-incubation-informational-webinars-sessions-at-12-pm-and-630-pm/
CATEGORIES:Events and Webinars
ATTACH;FMTTYPE=image/png:https://www.episcopalhealth.org/wp-content/uploads/2023/10/CoB.png
END:VEVENT
END:VCALENDAR